BEGIN:VCALENDAR
VERSION:2.0
PRODID:-//Okręg Pomorski | ZNP - ECPv6.15.12.2//NONSGML v1.0//EN
CALSCALE:GREGORIAN
METHOD:PUBLISH
X-ORIGINAL-URL:https://pomorskie.znp.edu.pl
X-WR-CALDESC:Wydarzenia dla Okręg Pomorski | ZNP
REFRESH-INTERVAL;VALUE=DURATION:PT1H
X-Robots-Tag:noindex
X-PUBLISHED-TTL:PT1H
BEGIN:VTIMEZONE
TZID:Europe/Warsaw
BEGIN:DAYLIGHT
TZOFFSETFROM:+0100
TZOFFSETTO:+0200
TZNAME:CEST
DTSTART:20250330T010000
END:DAYLIGHT
BEGIN:STANDARD
TZOFFSETFROM:+0200
TZOFFSETTO:+0100
TZNAME:CET
DTSTART:20251026T010000
END:STANDARD
BEGIN:DAYLIGHT
TZOFFSETFROM:+0100
TZOFFSETTO:+0200
TZNAME:CEST
DTSTART:20260329T010000
END:DAYLIGHT
BEGIN:STANDARD
TZOFFSETFROM:+0200
TZOFFSETTO:+0100
TZNAME:CET
DTSTART:20261025T010000
END:STANDARD
BEGIN:DAYLIGHT
TZOFFSETFROM:+0100
TZOFFSETTO:+0200
TZNAME:CEST
DTSTART:20270328T010000
END:DAYLIGHT
BEGIN:STANDARD
TZOFFSETFROM:+0200
TZOFFSETTO:+0100
TZNAME:CET
DTSTART:20271031T010000
END:STANDARD
END:VTIMEZONE
BEGIN:VEVENT
DTSTART;TZID=Europe/Warsaw:20260225T090000
DTEND;TZID=Europe/Warsaw:20260225T120000
DTSTAMP:20260426T053507
CREATED:20260219T131110Z
LAST-MODIFIED:20260219T131110Z
UID:4221-1772010000-1772020800@pomorskie.znp.edu.pl
SUMMARY:Spotkanie z Prezesami Oddziałów ZNP - Bilanse Oddziałów za rok 2025.
DESCRIPTION:
URL:https://pomorskie.znp.edu.pl/wydarzenie/spotkanie-z-prezesami-oddzialow-znp-bilanse-oddzialow-za-rok-2025/
LOCATION:Hotel Logos Gdańsk\, Uphagena 28\, Gdańsk\, pomorskie\, 80-237\, Poland
END:VEVENT
END:VCALENDAR