BEGIN:VCALENDAR
VERSION:2.0
PRODID:-//Okręg Pomorski | ZNP - ECPv6.15.12.2//NONSGML v1.0//EN
CALSCALE:GREGORIAN
METHOD:PUBLISH
X-WR-CALNAME:Okręg Pomorski | ZNP
X-ORIGINAL-URL:https://pomorskie.znp.edu.pl
X-WR-CALDESC:Wydarzenia dla Okręg Pomorski | ZNP
REFRESH-INTERVAL;VALUE=DURATION:PT1H
X-Robots-Tag:noindex
X-PUBLISHED-TTL:PT1H
BEGIN:VTIMEZONE
TZID:Europe/Warsaw
BEGIN:DAYLIGHT
TZOFFSETFROM:+0100
TZOFFSETTO:+0200
TZNAME:CEST
DTSTART:20250330T010000
END:DAYLIGHT
BEGIN:STANDARD
TZOFFSETFROM:+0200
TZOFFSETTO:+0100
TZNAME:CET
DTSTART:20251026T010000
END:STANDARD
BEGIN:DAYLIGHT
TZOFFSETFROM:+0100
TZOFFSETTO:+0200
TZNAME:CEST
DTSTART:20260329T010000
END:DAYLIGHT
BEGIN:STANDARD
TZOFFSETFROM:+0200
TZOFFSETTO:+0100
TZNAME:CET
DTSTART:20261025T010000
END:STANDARD
BEGIN:DAYLIGHT
TZOFFSETFROM:+0100
TZOFFSETTO:+0200
TZNAME:CEST
DTSTART:20270328T010000
END:DAYLIGHT
BEGIN:STANDARD
TZOFFSETFROM:+0200
TZOFFSETTO:+0100
TZNAME:CET
DTSTART:20271031T010000
END:STANDARD
END:VTIMEZONE
BEGIN:VEVENT
DTSTART;TZID=Europe/Warsaw:20260226T103000
DTEND;TZID=Europe/Warsaw:20260226T123000
DTSTAMP:20260426T052220
CREATED:20260219T130830Z
LAST-MODIFIED:20260219T130830Z
UID:4215-1772101800-1772109000@pomorskie.znp.edu.pl
SUMMARY:Spotkanie couchingowe - RW OPZZ - projekt UE
DESCRIPTION:
URL:https://pomorskie.znp.edu.pl/wydarzenie/spotkanie-couchingowe-rw-opzz-projekt-ue/
LOCATION:Siedziba OPZZ ul. Nowe Ogrody 35
END:VEVENT
BEGIN:VEVENT
DTSTART;TZID=Europe/Warsaw:20260226T170000
DTEND;TZID=Europe/Warsaw:20260226T180000
DTSTAMP:20260426T052220
CREATED:20260219T130917Z
LAST-MODIFIED:20260219T130917Z
UID:4217-1772125200-1772128800@pomorskie.znp.edu.pl
SUMMARY:Posiedzenie Okręgowej Komisji Rewizyjnej ZNP - online
DESCRIPTION:
URL:https://pomorskie.znp.edu.pl/wydarzenie/posiedzenie-okregowej-komisji-rewizyjnej-znp-online/
END:VEVENT
BEGIN:VEVENT
DTSTART;TZID=Europe/Warsaw:20260226T180000
DTEND;TZID=Europe/Warsaw:20260226T200000
DTSTAMP:20260426T052220
CREATED:20260219T131011Z
LAST-MODIFIED:20260219T131011Z
UID:4219-1772128800-1772136000@pomorskie.znp.edu.pl
SUMMARY:Posiedzenie Zarządu Okręgu Pomorskiego ZNP - online
DESCRIPTION:
URL:https://pomorskie.znp.edu.pl/wydarzenie/posiedzenie-zarzadu-okregu-pomorskiego-znp-online-2/
END:VEVENT
END:VCALENDAR