BEGIN:VCALENDAR
VERSION:2.0
PRODID:-//Okręg Pomorski | ZNP - ECPv6.15.12.2//NONSGML v1.0//EN
CALSCALE:GREGORIAN
METHOD:PUBLISH
X-WR-CALNAME:Okręg Pomorski | ZNP
X-ORIGINAL-URL:https://pomorskie.znp.edu.pl
X-WR-CALDESC:Wydarzenia dla Okręg Pomorski | ZNP
REFRESH-INTERVAL;VALUE=DURATION:PT1H
X-Robots-Tag:noindex
X-PUBLISHED-TTL:PT1H
BEGIN:VTIMEZONE
TZID:Europe/Warsaw
BEGIN:DAYLIGHT
TZOFFSETFROM:+0100
TZOFFSETTO:+0200
TZNAME:CEST
DTSTART:20250330T010000
END:DAYLIGHT
BEGIN:STANDARD
TZOFFSETFROM:+0200
TZOFFSETTO:+0100
TZNAME:CET
DTSTART:20251026T010000
END:STANDARD
BEGIN:DAYLIGHT
TZOFFSETFROM:+0100
TZOFFSETTO:+0200
TZNAME:CEST
DTSTART:20260329T010000
END:DAYLIGHT
BEGIN:STANDARD
TZOFFSETFROM:+0200
TZOFFSETTO:+0100
TZNAME:CET
DTSTART:20261025T010000
END:STANDARD
BEGIN:DAYLIGHT
TZOFFSETFROM:+0100
TZOFFSETTO:+0200
TZNAME:CEST
DTSTART:20270328T010000
END:DAYLIGHT
BEGIN:STANDARD
TZOFFSETFROM:+0200
TZOFFSETTO:+0100
TZNAME:CET
DTSTART:20271031T010000
END:STANDARD
END:VTIMEZONE
BEGIN:VEVENT
DTSTART;TZID=Europe/Warsaw:20260427T080000
DTEND;TZID=Europe/Warsaw:20260430T170000
DTSTAMP:20260425T224712
CREATED:20260409T113424Z
LAST-MODIFIED:20260409T113424Z
UID:4490-1777276800-1777568400@pomorskie.znp.edu.pl
SUMMARY:SZKOLENIE „100” ORGANIZOWANE PRZEZ ZG ZNP W ZAKOPANEM
DESCRIPTION:
URL:https://pomorskie.znp.edu.pl/wydarzenie/szkolenie-100-organizowane-przez-zg-znp-w-zakopanem/
LOCATION:Nauczycielskie Centrum Wypoczynkowo – Rehabiltacyjne ZNP w Zakopanem
END:VEVENT
BEGIN:VEVENT
DTSTART;TZID=Europe/Warsaw:20260430T130000
DTEND;TZID=Europe/Warsaw:20260430T150000
DTSTAMP:20260425T224712
CREATED:20260421T125437Z
LAST-MODIFIED:20260421T125437Z
UID:4503-1777554000-1777561200@pomorskie.znp.edu.pl
SUMMARY:Posiedzenie Wojewódzkiej Rady Dialogu Społecznego w Gdańsku
DESCRIPTION:
URL:https://pomorskie.znp.edu.pl/wydarzenie/posiedzenie-wojewodzkiej-rady-dialogu-spolecznego-w-gdansku-5/
LOCATION:Sala Herbowej Urzędu Marszałkowskiego Województwa Pomorskiego ul. Okopowa 21/27\, Gdańsk
END:VEVENT
BEGIN:VEVENT
DTSTART;TZID=Europe/Warsaw:20260505T120000
DTEND;TZID=Europe/Warsaw:20260505T140000
DTSTAMP:20260425T224712
CREATED:20260421T125306Z
LAST-MODIFIED:20260421T125306Z
UID:4501-1777982400-1777989600@pomorskie.znp.edu.pl
SUMMARY:Posiedzenie Zespołu ds. społecznych Wojewódzkiej Rady Dialogu Społecznego
DESCRIPTION:
URL:https://pomorskie.znp.edu.pl/wydarzenie/posiedzenie-zespolu-ds-spolecznych-wojewodzkiej-rady-dialogu-spolecznego-2/
END:VEVENT
BEGIN:VEVENT
DTSTART;TZID=Europe/Warsaw:20260507T180000
DTEND;TZID=Europe/Warsaw:20260507T200000
DTSTAMP:20260425T224712
CREATED:20260416T124125Z
LAST-MODIFIED:20260416T124125Z
UID:4494-1778176800-1778184000@pomorskie.znp.edu.pl
SUMMARY:Szkolenie pt. „BEZ STRACHU - szkolenie prawne i psychologiczne”- cz. II -on-line
DESCRIPTION:
URL:https://pomorskie.znp.edu.pl/wydarzenie/szkolenie-pt-bez-strachu-szkolenie-prawne-i-psychologiczne-cz-ii-on-line/
END:VEVENT
BEGIN:VEVENT
DTSTART;TZID=Europe/Warsaw:20260530T100000
DTEND;TZID=Europe/Warsaw:20260530T150000
DTSTAMP:20260425T224712
CREATED:20260224T122126Z
LAST-MODIFIED:20260224T122126Z
UID:4403-1780135200-1780153200@pomorskie.znp.edu.pl
SUMMARY:V Pomorski Marsz Nordic Walking ZNP
DESCRIPTION:
URL:https://pomorskie.znp.edu.pl/wydarzenie/v-pomorski-marsz-nordic-walking-znp/
LOCATION:Park Lasek Północny w Słupsku
END:VEVENT
BEGIN:VEVENT
DTSTART;TZID=Europe/Warsaw:20260608T080000
DTEND;TZID=Europe/Warsaw:20260608T170000
DTSTAMP:20260425T224712
CREATED:20260223T142053Z
LAST-MODIFIED:20260223T142053Z
UID:4385-1780905600-1780938000@pomorskie.znp.edu.pl
SUMMARY:SZKOLENIE DLA PREZESÓW ODDZIAŁÓW ZNP - EFROS
DESCRIPTION:
URL:https://pomorskie.znp.edu.pl/wydarzenie/szkolenie-dla-prezesow-oddzialow-znp-efros/
END:VEVENT
BEGIN:VEVENT
DTSTART;TZID=Europe/Warsaw:20260824T080000
DTEND;TZID=Europe/Warsaw:20260824T170000
DTSTAMP:20260425T224712
CREATED:20260223T142141Z
LAST-MODIFIED:20260223T142141Z
UID:4389-1787558400-1787590800@pomorskie.znp.edu.pl
SUMMARY:SZKOLENIE DLA PREZESÓW ODDZIAŁÓW ZNP - EFROS
DESCRIPTION:
URL:https://pomorskie.znp.edu.pl/wydarzenie/szkolenie-dla-prezesow-oddzialow-znp-efros-2/
END:VEVENT
BEGIN:VEVENT
DTSTART;TZID=Europe/Warsaw:20261123T080000
DTEND;TZID=Europe/Warsaw:20261123T170000
DTSTAMP:20260425T224712
CREATED:20260223T142158Z
LAST-MODIFIED:20260223T142158Z
UID:4391-1795420800-1795453200@pomorskie.znp.edu.pl
SUMMARY:SZKOLENIE DLA PREZESÓW ODDZIAŁÓW ZNP - EFROS
DESCRIPTION:
URL:https://pomorskie.znp.edu.pl/wydarzenie/szkolenie-dla-prezesow-oddzialow-znp-efros-3/
END:VEVENT
END:VCALENDAR