BEGIN:VCALENDAR
VERSION:2.0
PRODID:-//Okręg Pomorski | ZNP - ECPv6.15.12.2//NONSGML v1.0//EN
CALSCALE:GREGORIAN
METHOD:PUBLISH
X-ORIGINAL-URL:https://pomorskie.znp.edu.pl
X-WR-CALDESC:Wydarzenia dla Okręg Pomorski | ZNP
REFRESH-INTERVAL;VALUE=DURATION:PT1H
X-Robots-Tag:noindex
X-PUBLISHED-TTL:PT1H
BEGIN:VTIMEZONE
TZID:Europe/Warsaw
BEGIN:DAYLIGHT
TZOFFSETFROM:+0100
TZOFFSETTO:+0200
TZNAME:CEST
DTSTART:20250330T010000
END:DAYLIGHT
BEGIN:STANDARD
TZOFFSETFROM:+0200
TZOFFSETTO:+0100
TZNAME:CET
DTSTART:20251026T010000
END:STANDARD
BEGIN:DAYLIGHT
TZOFFSETFROM:+0100
TZOFFSETTO:+0200
TZNAME:CEST
DTSTART:20260329T010000
END:DAYLIGHT
BEGIN:STANDARD
TZOFFSETFROM:+0200
TZOFFSETTO:+0100
TZNAME:CET
DTSTART:20261025T010000
END:STANDARD
BEGIN:DAYLIGHT
TZOFFSETFROM:+0100
TZOFFSETTO:+0200
TZNAME:CEST
DTSTART:20270328T010000
END:DAYLIGHT
BEGIN:STANDARD
TZOFFSETFROM:+0200
TZOFFSETTO:+0100
TZNAME:CET
DTSTART:20271031T010000
END:STANDARD
END:VTIMEZONE
BEGIN:VEVENT
DTSTART;TZID=Europe/Warsaw:20260227T100000
DTEND;TZID=Europe/Warsaw:20260301T130000
DTSTAMP:20260426T041825
CREATED:20260210T110412Z
LAST-MODIFIED:20260210T110854Z
UID:4172-1772186400-1772370000@pomorskie.znp.edu.pl
SUMMARY:Szkolenie Prezesów Oddziałów ZNP Okręgu Pomorskiego - Darłowo
DESCRIPTION:
URL:https://pomorskie.znp.edu.pl/wydarzenie/szkolenie-prezesow-oddzialow-znp-okregu-pomorskiego/
LOCATION:Darłowo
END:VEVENT
BEGIN:VEVENT
DTSTART;TZID=Europe/Warsaw:20260304T120000
DTEND;TZID=Europe/Warsaw:20260304T150000
DTSTAMP:20260426T041825
CREATED:20260219T130432Z
LAST-MODIFIED:20260219T130432Z
UID:4210-1772625600-1772636400@pomorskie.znp.edu.pl
SUMMARY:Posiedzenie Zespołu ds. społecznych Wojewódzkiej Rady Dialogu Społecznego w Gdańsku
DESCRIPTION:
URL:https://pomorskie.znp.edu.pl/wydarzenie/posiedzenie-zespolu-ds-spolecznych-wojewodzkiej-rady-dialogu-spolecznego-w-gdansku-4/
LOCATION:Sala konferencyjna 326A Departament Rozwoju Gospodarczego Urzędu Marszałkowskiego Województwa Pomorskiego
END:VEVENT
BEGIN:VEVENT
DTSTART;TZID=Europe/Warsaw:20260307T090000
DTEND;TZID=Europe/Warsaw:20260308T170000
DTSTAMP:20260426T041825
CREATED:20260210T110601Z
LAST-MODIFIED:20260210T110827Z
UID:4174-1772874000-1772989200@pomorskie.znp.edu.pl
SUMMARY:Szkolenie w ramach Projektu Dialog plus „Wybrane zagadnienia z Ustawy o systemie oświaty w tym odpowiedzialność prawna nauczycieli” - Gdańsk
DESCRIPTION:
URL:https://pomorskie.znp.edu.pl/wydarzenie/szkolenie-w-ramach-projektu-dialog-plus-wybrane-zagadnienia-z-ustawy-o-systemie-oswiaty-w-tym-odpowiedzialnosc-prawna-nauczycieli-gdansk/
LOCATION:Gdańsk
END:VEVENT
BEGIN:VEVENT
DTSTART;TZID=Europe/Warsaw:20260311T103000
DTEND;TZID=Europe/Warsaw:20260311T130000
DTSTAMP:20260426T041825
CREATED:20260303T125656Z
LAST-MODIFIED:20260303T125656Z
UID:4412-1773225000-1773234000@pomorskie.znp.edu.pl
SUMMARY:Posiedzenie Rady OPZZ woj. pomorskiego.
DESCRIPTION:
URL:https://pomorskie.znp.edu.pl/wydarzenie/posiedzenie-rady-opzz-woj-pomorskiego-3/
LOCATION:Siedziba OPZZ ul. Nowe Ogrody 35
END:VEVENT
BEGIN:VEVENT
DTSTART;TZID=Europe/Warsaw:20260313T090000
DTEND;TZID=Europe/Warsaw:20260315T170000
DTSTAMP:20260426T041825
CREATED:20260210T110723Z
LAST-MODIFIED:20260210T110800Z
UID:4177-1773392400-1773594000@pomorskie.znp.edu.pl
SUMMARY:Szkolenie Projekt SIP - „Podstawy prawne działania Społecznej Inspekcji Pracy SIP" - Gdańsk
DESCRIPTION:
URL:https://pomorskie.znp.edu.pl/wydarzenie/szkolenie-projekt-sip-podstawy-prawne-dzialania-spolecznej-inspekcji-pracy-sip-gdansk/
LOCATION:Gdańsk
END:VEVENT
BEGIN:VEVENT
DTSTART;TZID=Europe/Warsaw:20260319T163000
DTEND;TZID=Europe/Warsaw:20260319T200000
DTSTAMP:20260426T041825
CREATED:20260303T135740Z
LAST-MODIFIED:20260303T135740Z
UID:4414-1773937800-1773950400@pomorskie.znp.edu.pl
SUMMARY:ZNP ZG webinarium pt. „Wybrane zagadnienia z Karty Nauczyciela”
DESCRIPTION:
URL:https://pomorskie.znp.edu.pl/wydarzenie/znp-zg-webinarium-pt-wybrane-zagadnienia-z-karty-nauczyciela/
END:VEVENT
BEGIN:VEVENT
DTSTART;TZID=Europe/Warsaw:20260320T110000
DTEND;TZID=Europe/Warsaw:20260320T140000
DTSTAMP:20260426T041825
CREATED:20260219T130637Z
LAST-MODIFIED:20260219T130637Z
UID:4213-1774004400-1774015200@pomorskie.znp.edu.pl
SUMMARY:Spotkanie Okręgowego Klubu Młodego Nauczyciela w Gdańsku
DESCRIPTION:
URL:https://pomorskie.znp.edu.pl/wydarzenie/spotkanie-okregowego-klubu-mlodego-nauczyciela-w-gdansku/
LOCATION:ZNP OKRĘG POMORSKI\, Wały Jagiellońskie 24\, Gdańsk\, pomorskie\, 80-853\, Poland
END:VEVENT
BEGIN:VEVENT
DTSTART;TZID=Europe/Warsaw:20260323T100000
DTEND;TZID=Europe/Warsaw:20260323T130000
DTSTAMP:20260426T041825
CREATED:20260303T125529Z
LAST-MODIFIED:20260303T125529Z
UID:4410-1774260000-1774270800@pomorskie.znp.edu.pl
SUMMARY:21. posiedzenie Pomorskiej Rady Oświatowej - debata z udziałem Ministra Edukacji
DESCRIPTION:
URL:https://pomorskie.znp.edu.pl/wydarzenie/21-posiedzenie-pomorskiej-rady-oswiatowej-debata-z-udzialem-ministra-edukacji/
END:VEVENT
BEGIN:VEVENT
DTSTART;TZID=Europe/Warsaw:20260324T120000
DTEND;TZID=Europe/Warsaw:20260324T140000
DTSTAMP:20260426T041825
CREATED:20260303T125230Z
LAST-MODIFIED:20260303T125230Z
UID:4408-1774353600-1774360800@pomorskie.znp.edu.pl
SUMMARY:XIII posiedzenie Regionalnego Komitetu Rozwoju Ekonomii Społecznej
DESCRIPTION:
URL:https://pomorskie.znp.edu.pl/wydarzenie/xiii-posiedzenie-regionalnego-komitetu-rozwoju-ekonomii-spolecznej/
LOCATION:Sala Herbowej Urzędu Marszałkowskiego Województwa Pomorskiego ul. Okopowa 21/27\, Gdańsk
END:VEVENT
BEGIN:VEVENT
DTSTART;TZID=Europe/Warsaw:20260326T180000
DTEND;TZID=Europe/Warsaw:20260326T200000
DTSTAMP:20260426T041825
CREATED:20260306T090745Z
LAST-MODIFIED:20260306T090745Z
UID:4417-1774548000-1774555200@pomorskie.znp.edu.pl
SUMMARY:ZG ZNP OUPiS filia Gdańsk - szkolenie on-line pt. „Ustawa „Kamilkowa” w świetle możliwych deliktów dyscyplinarnych – czego się wystrzegać i jak postępować?
DESCRIPTION:
URL:https://pomorskie.znp.edu.pl/wydarzenie/zg-znp-oupis-filia-gdansk-szkolenie-on-line-pt-ustawa-kamilkowa-w-swietle-mozliwych-deliktow-dyscyplinarnych-czego-sie-wystrzegac-i-jak-postepowac/
END:VEVENT
BEGIN:VEVENT
DTSTART;TZID=Europe/Warsaw:20260330T180000
DTEND;TZID=Europe/Warsaw:20260330T203000
DTSTAMP:20260426T041825
CREATED:20260401T113919Z
LAST-MODIFIED:20260401T113919Z
UID:4478-1774893600-1774902600@pomorskie.znp.edu.pl
SUMMARY:Posiedzenie Zarządu Okręgu Pomorskiego ZNP z udziałem Prezesów Oddziałów - online
DESCRIPTION:
URL:https://pomorskie.znp.edu.pl/wydarzenie/posiedzenie-zarzadu-okregu-pomorskiego-znp-z-udzialem-prezesow-oddzialow-online/
END:VEVENT
BEGIN:VEVENT
DTSTART;TZID=Europe/Warsaw:20260411T100000
DTEND;TZID=Europe/Warsaw:20260411T170000
DTSTAMP:20260426T041825
CREATED:20260223T142315Z
LAST-MODIFIED:20260223T142315Z
UID:4393-1775901600-1775926800@pomorskie.znp.edu.pl
SUMMARY:II POMORSKI MIĘDZYPOKOLENIOWY TURNIEJ NAUCZYCIELI ZNP W BOWLING
DESCRIPTION:
URL:https://pomorskie.znp.edu.pl/wydarzenie/ii-pomorski-miedzypokoleniowy-turniej-nauczycieli-znp-w-bowling/
LOCATION:Centrum U 7
END:VEVENT
BEGIN:VEVENT
DTSTART;TZID=Europe/Warsaw:20260413T180000
DTEND;TZID=Europe/Warsaw:20260413T200000
DTSTAMP:20260426T041825
CREATED:20260401T113818Z
LAST-MODIFIED:20260401T113818Z
UID:4476-1776103200-1776110400@pomorskie.znp.edu.pl
SUMMARY:Szkolenie pt. „BEZ STRACHU - szkolenie prawne i psychologiczne”- cz. I -on-line
DESCRIPTION:
URL:https://pomorskie.znp.edu.pl/wydarzenie/szkolenie-pt-bez-strachu-szkolenie-prawne-i-psychologiczne-cz-i-on-line/
END:VEVENT
BEGIN:VEVENT
DTSTART;TZID=Europe/Warsaw:20260425T110000
DTEND;TZID=Europe/Warsaw:20260425T150000
DTSTAMP:20260426T041825
CREATED:20260223T103251Z
LAST-MODIFIED:20260223T103418Z
UID:4381-1777114800-1777129200@pomorskie.znp.edu.pl
SUMMARY:Szkolenie Edukacja Obywatelska - metodyka przedmiotu
DESCRIPTION:
URL:https://pomorskie.znp.edu.pl/wydarzenie/szkolenie-edukacja-obywatelska/
LOCATION:Hotel Logos Gdańsk\, Uphagena 28\, Gdańsk\, pomorskie\, 80-237\, Poland
END:VEVENT
BEGIN:VEVENT
DTSTART;TZID=Europe/Warsaw:20260427T080000
DTEND;TZID=Europe/Warsaw:20260430T170000
DTSTAMP:20260426T041825
CREATED:20260409T113424Z
LAST-MODIFIED:20260409T113424Z
UID:4490-1777276800-1777568400@pomorskie.znp.edu.pl
SUMMARY:SZKOLENIE „100” ORGANIZOWANE PRZEZ ZG ZNP W ZAKOPANEM
DESCRIPTION:
URL:https://pomorskie.znp.edu.pl/wydarzenie/szkolenie-100-organizowane-przez-zg-znp-w-zakopanem/
LOCATION:Nauczycielskie Centrum Wypoczynkowo – Rehabiltacyjne ZNP w Zakopanem
END:VEVENT
BEGIN:VEVENT
DTSTART;TZID=Europe/Warsaw:20260430T130000
DTEND;TZID=Europe/Warsaw:20260430T150000
DTSTAMP:20260426T041825
CREATED:20260421T125437Z
LAST-MODIFIED:20260421T125437Z
UID:4503-1777554000-1777561200@pomorskie.znp.edu.pl
SUMMARY:Posiedzenie Wojewódzkiej Rady Dialogu Społecznego w Gdańsku
DESCRIPTION:
URL:https://pomorskie.znp.edu.pl/wydarzenie/posiedzenie-wojewodzkiej-rady-dialogu-spolecznego-w-gdansku-5/
LOCATION:Sala Herbowej Urzędu Marszałkowskiego Województwa Pomorskiego ul. Okopowa 21/27\, Gdańsk
END:VEVENT
BEGIN:VEVENT
DTSTART;TZID=Europe/Warsaw:20260505T120000
DTEND;TZID=Europe/Warsaw:20260505T140000
DTSTAMP:20260426T041825
CREATED:20260421T125306Z
LAST-MODIFIED:20260421T125306Z
UID:4501-1777982400-1777989600@pomorskie.znp.edu.pl
SUMMARY:Posiedzenie Zespołu ds. społecznych Wojewódzkiej Rady Dialogu Społecznego
DESCRIPTION:
URL:https://pomorskie.znp.edu.pl/wydarzenie/posiedzenie-zespolu-ds-spolecznych-wojewodzkiej-rady-dialogu-spolecznego-2/
END:VEVENT
BEGIN:VEVENT
DTSTART;TZID=Europe/Warsaw:20260507T180000
DTEND;TZID=Europe/Warsaw:20260507T200000
DTSTAMP:20260426T041825
CREATED:20260416T124125Z
LAST-MODIFIED:20260416T124125Z
UID:4494-1778176800-1778184000@pomorskie.znp.edu.pl
SUMMARY:Szkolenie pt. „BEZ STRACHU - szkolenie prawne i psychologiczne”- cz. II -on-line
DESCRIPTION:
URL:https://pomorskie.znp.edu.pl/wydarzenie/szkolenie-pt-bez-strachu-szkolenie-prawne-i-psychologiczne-cz-ii-on-line/
END:VEVENT
BEGIN:VEVENT
DTSTART;TZID=Europe/Warsaw:20260530T100000
DTEND;TZID=Europe/Warsaw:20260530T150000
DTSTAMP:20260426T041825
CREATED:20260224T122126Z
LAST-MODIFIED:20260224T122126Z
UID:4403-1780135200-1780153200@pomorskie.znp.edu.pl
SUMMARY:V Pomorski Marsz Nordic Walking ZNP
DESCRIPTION:
URL:https://pomorskie.znp.edu.pl/wydarzenie/v-pomorski-marsz-nordic-walking-znp/
LOCATION:Park Lasek Północny w Słupsku
END:VEVENT
BEGIN:VEVENT
DTSTART;TZID=Europe/Warsaw:20260608T080000
DTEND;TZID=Europe/Warsaw:20260608T170000
DTSTAMP:20260426T041825
CREATED:20260223T142053Z
LAST-MODIFIED:20260223T142053Z
UID:4385-1780905600-1780938000@pomorskie.znp.edu.pl
SUMMARY:SZKOLENIE DLA PREZESÓW ODDZIAŁÓW ZNP - EFROS
DESCRIPTION:
URL:https://pomorskie.znp.edu.pl/wydarzenie/szkolenie-dla-prezesow-oddzialow-znp-efros/
END:VEVENT
BEGIN:VEVENT
DTSTART;TZID=Europe/Warsaw:20260824T080000
DTEND;TZID=Europe/Warsaw:20260824T170000
DTSTAMP:20260426T041825
CREATED:20260223T142141Z
LAST-MODIFIED:20260223T142141Z
UID:4389-1787558400-1787590800@pomorskie.znp.edu.pl
SUMMARY:SZKOLENIE DLA PREZESÓW ODDZIAŁÓW ZNP - EFROS
DESCRIPTION:
URL:https://pomorskie.znp.edu.pl/wydarzenie/szkolenie-dla-prezesow-oddzialow-znp-efros-2/
END:VEVENT
BEGIN:VEVENT
DTSTART;TZID=Europe/Warsaw:20261123T080000
DTEND;TZID=Europe/Warsaw:20261123T170000
DTSTAMP:20260426T041825
CREATED:20260223T142158Z
LAST-MODIFIED:20260223T142158Z
UID:4391-1795420800-1795453200@pomorskie.znp.edu.pl
SUMMARY:SZKOLENIE DLA PREZESÓW ODDZIAŁÓW ZNP - EFROS
DESCRIPTION:
URL:https://pomorskie.znp.edu.pl/wydarzenie/szkolenie-dla-prezesow-oddzialow-znp-efros-3/
END:VEVENT
END:VCALENDAR