BEGIN:VCALENDAR
VERSION:2.0
PRODID:-//Okręg Pomorski | ZNP - ECPv6.15.12.2//NONSGML v1.0//EN
CALSCALE:GREGORIAN
METHOD:PUBLISH
X-WR-CALNAME:Okręg Pomorski | ZNP
X-ORIGINAL-URL:https://pomorskie.znp.edu.pl
X-WR-CALDESC:Wydarzenia dla Okręg Pomorski | ZNP
REFRESH-INTERVAL;VALUE=DURATION:PT1H
X-Robots-Tag:noindex
X-PUBLISHED-TTL:PT1H
BEGIN:VTIMEZONE
TZID:Europe/Warsaw
BEGIN:DAYLIGHT
TZOFFSETFROM:+0100
TZOFFSETTO:+0200
TZNAME:CEST
DTSTART:20240331T010000
END:DAYLIGHT
BEGIN:STANDARD
TZOFFSETFROM:+0200
TZOFFSETTO:+0100
TZNAME:CET
DTSTART:20241027T010000
END:STANDARD
BEGIN:DAYLIGHT
TZOFFSETFROM:+0100
TZOFFSETTO:+0200
TZNAME:CEST
DTSTART:20250330T010000
END:DAYLIGHT
BEGIN:STANDARD
TZOFFSETFROM:+0200
TZOFFSETTO:+0100
TZNAME:CET
DTSTART:20251026T010000
END:STANDARD
BEGIN:DAYLIGHT
TZOFFSETFROM:+0100
TZOFFSETTO:+0200
TZNAME:CEST
DTSTART:20260329T010000
END:DAYLIGHT
BEGIN:STANDARD
TZOFFSETFROM:+0200
TZOFFSETTO:+0100
TZNAME:CET
DTSTART:20261025T010000
END:STANDARD
BEGIN:DAYLIGHT
TZOFFSETFROM:+0100
TZOFFSETTO:+0200
TZNAME:CEST
DTSTART:20270328T010000
END:DAYLIGHT
BEGIN:STANDARD
TZOFFSETFROM:+0200
TZOFFSETTO:+0100
TZNAME:CET
DTSTART:20271031T010000
END:STANDARD
END:VTIMEZONE
BEGIN:VEVENT
DTSTART;TZID=Europe/Warsaw:20260219T143000
DTEND;TZID=Europe/Warsaw:20260219T150000
DTSTAMP:20260426T035056
CREATED:20260219T132516Z
LAST-MODIFIED:20260219T132516Z
UID:4236-1771511400-1771513200@pomorskie.znp.edu.pl
SUMMARY:Spotkanie ws. Międzypokoleniowego Turnieju w Bowling ZNP - U7
DESCRIPTION:
URL:https://pomorskie.znp.edu.pl/wydarzenie/spotkanie-ws-miedzypokoleniowego-turnieju-w-bowling-znp-u7/
LOCATION:ZNP OKRĘG POMORSKI\, Wały Jagiellońskie 24\, Gdańsk\, pomorskie\, 80-853\, Poland
END:VEVENT
BEGIN:VEVENT
DTSTART;TZID=Europe/Warsaw:20260219T103000
DTEND;TZID=Europe/Warsaw:20260219T123000
DTSTAMP:20260426T035056
CREATED:20260219T132355Z
LAST-MODIFIED:20260219T132355Z
UID:4234-1771497000-1771504200@pomorskie.znp.edu.pl
SUMMARY:Spotkanie couchingowe - RW OPZZ - projekt UE
DESCRIPTION:
URL:https://pomorskie.znp.edu.pl/wydarzenie/spotkanie-couchingowe-rw-opzz-projekt-ue-2/
LOCATION:Siedziba OPZZ ul. Nowe Ogrody 35
END:VEVENT
BEGIN:VEVENT
DTSTART;TZID=Europe/Warsaw:20260216T200000
DTEND;TZID=Europe/Warsaw:20260216T210000
DTSTAMP:20260426T035056
CREATED:20260219T132721Z
LAST-MODIFIED:20260219T132721Z
UID:4238-1771272000-1771275600@pomorskie.znp.edu.pl
SUMMARY:Spotkanie Okręgowego Klubu Młodego Nauczyciela ZNP  - online
DESCRIPTION:
URL:https://pomorskie.znp.edu.pl/wydarzenie/spotkanie-okregowego-klubu-mlodego-nauczyciela-znp-online/
END:VEVENT
BEGIN:VEVENT
DTSTART;TZID=Europe/Warsaw:20260212T103000
DTEND;TZID=Europe/Warsaw:20260212T140000
DTSTAMP:20260426T035056
CREATED:20260219T133013Z
LAST-MODIFIED:20260219T133013Z
UID:4242-1770892200-1770904800@pomorskie.znp.edu.pl
SUMMARY:Webinar OPZZ pt. „Związki zawodowe\, a przeciwdziałanie mobbingowi i dyskryminacji w miejscu pracy”.
DESCRIPTION:
URL:https://pomorskie.znp.edu.pl/wydarzenie/webinar-opzz-pt-zwiazki-zawodowe-a-przeciwdzialanie-mobbingowi-i-dyskryminacji-w-miejscu-pracy/
END:VEVENT
BEGIN:VEVENT
DTSTART;TZID=Europe/Warsaw:20260129T130000
DTEND;TZID=Europe/Warsaw:20260129T150000
DTSTAMP:20260426T035056
CREATED:20260128T113614Z
LAST-MODIFIED:20260128T113614Z
UID:4157-1769691600-1769698800@pomorskie.znp.edu.pl
SUMMARY:Posiedzenie Wojewódzkiej Rady Dialogu Społecznego w Gdańsku
DESCRIPTION:
URL:https://pomorskie.znp.edu.pl/wydarzenie/posiedzenie-wojewodzkiej-rady-dialogu-spolecznego-w-gdansku-4/
LOCATION:Sala Herbowej Urzędu Marszałkowskiego Województwa Pomorskiego ul. Okopowa 21/27\, Gdańsk
END:VEVENT
BEGIN:VEVENT
DTSTART;TZID=Europe/Warsaw:20260129T120000
DTEND;TZID=Europe/Warsaw:20260129T150000
DTSTAMP:20260426T035056
CREATED:20260112T061705Z
LAST-MODIFIED:20260112T061705Z
UID:4133-1769688000-1769698800@pomorskie.znp.edu.pl
SUMMARY:Posiedzenie Zarządu Okręgu Pomorskiego ZNP - online
DESCRIPTION:
URL:https://pomorskie.znp.edu.pl/wydarzenie/posiedzenie-zarzadu-okregu-pomorskiego-znp-online/
END:VEVENT
BEGIN:VEVENT
DTSTART;TZID=Europe/Warsaw:20260129T120000
DTEND;TZID=Europe/Warsaw:20260129T140000
DTSTAMP:20260426T035056
CREATED:20260219T132830Z
LAST-MODIFIED:20260219T132830Z
UID:4240-1769688000-1769695200@pomorskie.znp.edu.pl
SUMMARY:Szkolenie OPZZ z KSeFu - online
DESCRIPTION:
URL:https://pomorskie.znp.edu.pl/wydarzenie/szkolenie-opzz-z-ksefu-online/
END:VEVENT
BEGIN:VEVENT
DTSTART;TZID=Europe/Warsaw:20260120T103000
DTEND;TZID=Europe/Warsaw:20260120T130000
DTSTAMP:20260426T035056
CREATED:20260112T061856Z
LAST-MODIFIED:20260112T061856Z
UID:4135-1768905000-1768914000@pomorskie.znp.edu.pl
SUMMARY:Posiedzenie Prezydium Rady OPZZ Województwa Pomorskiego
DESCRIPTION:
URL:https://pomorskie.znp.edu.pl/wydarzenie/posiedzenie-prezydium-rady-opzz-wojewodztwa-pomorskiego/
LOCATION:Siedziba OPZZ ul. Nowe Ogrody 35
END:VEVENT
BEGIN:VEVENT
DTSTART;TZID=Europe/Warsaw:20260114T093000
DTEND;TZID=Europe/Warsaw:20260115T160000
DTSTAMP:20260426T035056
CREATED:20260112T062057Z
LAST-MODIFIED:20260112T062057Z
UID:4137-1768383000-1768492800@pomorskie.znp.edu.pl
SUMMARY:Szkolenie księgowych ogniw ZNP prowadzących działalność statutową - ZG ZNP
DESCRIPTION:
URL:https://pomorskie.znp.edu.pl/wydarzenie/szkolenie-ksiegowych-ogniw-znp-prowadzacych-dzialalnosc-statutowa-zg-znp/
END:VEVENT
BEGIN:VEVENT
DTSTART;TZID=Europe/Warsaw:20260113T100000
DTEND;TZID=Europe/Warsaw:20260113T110000
DTSTAMP:20260426T035056
CREATED:20260219T133243Z
LAST-MODIFIED:20260219T133243Z
UID:4244-1768298400-1768302000@pomorskie.znp.edu.pl
SUMMARY:Spotkanie w sprawie współpracy - Aquapark Reda
DESCRIPTION:
URL:https://pomorskie.znp.edu.pl/wydarzenie/spotkanie-w-sprawie-wspolpracy-aquapark-reda/
END:VEVENT
BEGIN:VEVENT
DTSTART;TZID=Europe/Warsaw:20260112T140000
DTEND;TZID=Europe/Warsaw:20260112T160000
DTSTAMP:20260426T035056
CREATED:20260112T061623Z
LAST-MODIFIED:20260112T061623Z
UID:4131-1768226400-1768233600@pomorskie.znp.edu.pl
SUMMARY:Posiedzenie Prezydium Zarządu Okręgu Pomorskiego ZNP - online
DESCRIPTION:
URL:https://pomorskie.znp.edu.pl/wydarzenie/posiedzenie-prezydium-zarzadu-okregu-pomorskiego-znp-online/
END:VEVENT
BEGIN:VEVENT
DTSTART;TZID=Europe/Warsaw:20260109T170000
DTEND;TZID=Europe/Warsaw:20260109T190000
DTSTAMP:20260426T035056
CREATED:20260112T061547Z
LAST-MODIFIED:20260112T061547Z
UID:4129-1767978000-1767985200@pomorskie.znp.edu.pl
SUMMARY:Posiedzenie Sekretariatu Zarządu Okręgu Pomorskiego ZNP - online
DESCRIPTION:
URL:https://pomorskie.znp.edu.pl/wydarzenie/posiedzenie-sekretariatu-zarzadu-okregu-pomorskiego-znp-online/
END:VEVENT
BEGIN:VEVENT
DTSTART;TZID=Europe/Warsaw:20260109T120000
DTEND;TZID=Europe/Warsaw:20260109T140000
DTSTAMP:20260426T035056
CREATED:20260105T092751Z
LAST-MODIFIED:20260105T093601Z
UID:4127-1767960000-1767967200@pomorskie.znp.edu.pl
SUMMARY:Posiedzenie Zespołu ds. społecznych Wojewódzkiej Rady Dialogu Społecznego w Gdańsku.
DESCRIPTION:
URL:https://pomorskie.znp.edu.pl/wydarzenie/posiedzenie-zespolu-ds-spolecznych-wojewodzkiej-rady-dialogu-spolecznego-w-gdansku-3/
LOCATION:Sala konferencyjna 326A Departamentu Rozwoju Gospodarczego Urzędu Marszałkowskiego Województwa Pomorskiego (ul. Augustyńskiego 2\, Gdańsk).
END:VEVENT
BEGIN:VEVENT
DTSTART;TZID=Europe/Warsaw:20251218T130000
DTEND;TZID=Europe/Warsaw:20251218T150000
DTSTAMP:20260426T035056
CREATED:20251216T112841Z
LAST-MODIFIED:20251216T112841Z
UID:3916-1766062800-1766070000@pomorskie.znp.edu.pl
SUMMARY:Posiedzenie Wojewódzkiej Rady Dialogu Społecznego w Gdańsku
DESCRIPTION:
URL:https://pomorskie.znp.edu.pl/wydarzenie/posiedzenie-wojewodzkiej-rady-dialogu-spolecznego-w-gdansku-3/
LOCATION:Sala Herbowej Urzędu Marszałkowskiego Województwa Pomorskiego ul. Okopowa 21/27\, Gdańsk
END:VEVENT
BEGIN:VEVENT
DTSTART;TZID=Europe/Warsaw:20251213T080000
DTEND;TZID=Europe/Warsaw:20251216T170000
DTSTAMP:20260426T035056
CREATED:20250917T054709Z
LAST-MODIFIED:20251216T113104Z
UID:3673-1765612800-1765904400@pomorskie.znp.edu.pl
SUMMARY:Obchody 120. lecia ZNP Kraków  Okręg Małopolski
DESCRIPTION:
URL:https://pomorskie.znp.edu.pl/wydarzenie/obchody-120-lecia-znp-krakow-okreg-malopolski/
LOCATION:Kraków
END:VEVENT
BEGIN:VEVENT
DTSTART;TZID=Europe/Warsaw:20251211T160000
DTEND;TZID=Europe/Warsaw:20251211T170000
DTSTAMP:20260426T035056
CREATED:20260219T133614Z
LAST-MODIFIED:20260219T134031Z
UID:4246-1765468800-1765472400@pomorskie.znp.edu.pl
SUMMARY:Spotkanie z Pomorskim Kuratorem Oświaty ws. likwidacji szkół w Miastku
DESCRIPTION:
URL:https://pomorskie.znp.edu.pl/wydarzenie/spotkanie-z-pomorskim-kuratorem-oswiaty-ws-likwidacji-szkol-w-miastku/
LOCATION:Kuratorium Oświaty w Gdańsku
END:VEVENT
BEGIN:VEVENT
DTSTART;TZID=Europe/Warsaw:20251210T140000
DTEND;TZID=Europe/Warsaw:20251210T160000
DTSTAMP:20260426T035056
CREATED:20250917T054625Z
LAST-MODIFIED:20250917T054625Z
UID:3671-1765375200-1765382400@pomorskie.znp.edu.pl
SUMMARY:Posiedzenie Regionalnego Komitetu Rozwoju Ekonomii Społecznej - online
DESCRIPTION:
URL:https://pomorskie.znp.edu.pl/wydarzenie/posiedzenie-regionalnego-komitetu-rozwoju-ekonomii-spolecznej-online/
END:VEVENT
BEGIN:VEVENT
DTSTART;TZID=Europe/Warsaw:20251209T140000
DTEND;TZID=Europe/Warsaw:20251209T163000
DTSTAMP:20260426T035056
CREATED:20251216T113033Z
LAST-MODIFIED:20251216T113033Z
UID:3919-1765288800-1765297800@pomorskie.znp.edu.pl
SUMMARY:Posiedzenie Prezydium Wojewódzkiej Rady Dialogu Społecznego w Gdańsku - online
DESCRIPTION:
URL:https://pomorskie.znp.edu.pl/wydarzenie/posiedzenie-prezydium-wojewodzkiej-rady-dialogu-spolecznego-w-gdansku-online/
END:VEVENT
BEGIN:VEVENT
DTSTART;TZID=Europe/Warsaw:20251205T110000
DTEND;TZID=Europe/Warsaw:20251205T140000
DTSTAMP:20260426T035056
CREATED:20250917T054439Z
LAST-MODIFIED:20250917T054439Z
UID:3668-1764932400-1764943200@pomorskie.znp.edu.pl
SUMMARY:Uroczystość 120.lecia ZNP Okręg Pomorski ZNP
DESCRIPTION:
URL:https://pomorskie.znp.edu.pl/wydarzenie/uroczystosc-120-lecia-znp-okreg-pomorski-znp/
LOCATION:Dwór Artusa w Gdańsku
END:VEVENT
BEGIN:VEVENT
DTSTART;TZID=Europe/Warsaw:20251203T120000
DTEND;TZID=Europe/Warsaw:20251203T150000
DTSTAMP:20260426T035056
CREATED:20251126T134655Z
LAST-MODIFIED:20251126T134655Z
UID:3892-1764763200-1764774000@pomorskie.znp.edu.pl
SUMMARY:Posiedzenie Zespołu ds. społecznych Wojewódzkiej Rady Dialogu Społecznego w Gdańsku
DESCRIPTION:
URL:https://pomorskie.znp.edu.pl/wydarzenie/posiedzenie-zespolu-ds-spolecznych-wojewodzkiej-rady-dialogu-spolecznego-w-gdansku-2/
LOCATION:Sala konferencyjna 326A Departamentu Rozwoju Gospodarczego Urzędu Marszałkowskiego Województwa Pomorskiego (ul. Augustyńskiego 2\, Gdańsk).
END:VEVENT
BEGIN:VEVENT
DTSTART;TZID=Europe/Warsaw:20251129T160000
DTEND;TZID=Europe/Warsaw:20251129T190000
DTSTAMP:20260426T035056
CREATED:20251126T135302Z
LAST-MODIFIED:20251126T135302Z
UID:3898-1764432000-1764442800@pomorskie.znp.edu.pl
SUMMARY:95 Salon Młodopolski im. Arama Rybickiego  pod tytułem:  Wojna Rosji z Ukrainą. Dokąd zmierza konflikt i jak budować relacje polsko-ukraińskie?
DESCRIPTION:
URL:https://pomorskie.znp.edu.pl/wydarzenie/95-salon-mlodopolski-im-arama-rybickiego-pod-tytulem-wojna-rosji-z-ukraina-dokad-zmierza-konflikt-i-jak-budowac-relacje-polsko-ukrainskie/
LOCATION:Państwowa Galeria Sztuki (Plac Zdrojowy 2\, Sopot)
END:VEVENT
BEGIN:VEVENT
DTSTART;TZID=Europe/Warsaw:20251127T110000
DTEND;TZID=Europe/Warsaw:20251127T150000
DTSTAMP:20260426T035056
CREATED:20250917T055753Z
LAST-MODIFIED:20250917T055753Z
UID:3679-1764241200-1764255600@pomorskie.znp.edu.pl
SUMMARY:Obchody 120-lecia ZNP - Oddział ZNP w Malborku
DESCRIPTION:
URL:https://pomorskie.znp.edu.pl/wydarzenie/obchody-120-lecia-znp-oddzial-znp-w-malborku/
LOCATION:Malborskie Centrum Kultury i Edukacji w Malborku
END:VEVENT
BEGIN:VEVENT
DTSTART;TZID=Europe/Warsaw:20251127T100000
DTEND;TZID=Europe/Warsaw:20251127T150000
DTSTAMP:20260426T035056
CREATED:20251126T134919Z
LAST-MODIFIED:20251126T134929Z
UID:3894-1764237600-1764255600@pomorskie.znp.edu.pl
SUMMARY:Uroczysta Gala stypendialna Marszałka Województwa Pomorskiego
DESCRIPTION:
URL:https://pomorskie.znp.edu.pl/wydarzenie/uroczysta-gala-stypendialna-marszalka-wojewodztwa-pomorskiego/
LOCATION:Teatr Szekspirowski\, ul. Wojciecha Bogusławskiego 1\, 80-818 Gdańsk
END:VEVENT
BEGIN:VEVENT
DTSTART;TZID=Europe/Warsaw:20251125T100000
DTEND;TZID=Europe/Warsaw:20251125T130000
DTSTAMP:20260426T035056
CREATED:20251007T105930Z
LAST-MODIFIED:20251007T105930Z
UID:3801-1764064800-1764075600@pomorskie.znp.edu.pl
SUMMARY:Jubileusz 75-lecia Pomorskiej Medycznej Szkoły Policealnej w Gdańsku
DESCRIPTION:
URL:https://pomorskie.znp.edu.pl/wydarzenie/jubileusz-75-lecia-pomorskiej-medycznej-szkoly-policealnej-w-gdansku/
LOCATION:Pomorska Medyczna Szkoła Policealna w Gdańsku
END:VEVENT
BEGIN:VEVENT
DTSTART;TZID=Europe/Warsaw:20251124T100000
DTEND;TZID=Europe/Warsaw:20251124T130000
DTSTAMP:20260426T035056
CREATED:20250917T054328Z
LAST-MODIFIED:20251216T112939Z
UID:3666-1763978400-1763989200@pomorskie.znp.edu.pl
SUMMARY:Posiedzenie Prezydium i ZOP ZNP - online
DESCRIPTION:
URL:https://pomorskie.znp.edu.pl/wydarzenie/posiedzenie-prezydium-i-zop-znp/
LOCATION:Hotel Logos Gdańsk\, Uphagena 28\, Gdańsk\, pomorskie\, 80-237\, Poland
END:VEVENT
BEGIN:VEVENT
DTSTART;TZID=Europe/Warsaw:20251122T100000
DTEND;TZID=Europe/Warsaw:20251122T170000
DTSTAMP:20260426T035056
CREATED:20250917T055606Z
LAST-MODIFIED:20250917T055606Z
UID:3676-1763805600-1763830800@pomorskie.znp.edu.pl
SUMMARY:Obchody 120-lecia ZNP Oddział ZNP w Gdańsku - Koncert patriotyczny.
DESCRIPTION:
URL:https://pomorskie.znp.edu.pl/wydarzenie/obchody-120-lecia-znp-oddzial-znp-w-gdansku-koncert-patriotyczny/
LOCATION:MUZEUM II WOJNY ŚWIATOWEJ w Gdańsku
END:VEVENT
BEGIN:VEVENT
DTSTART;TZID=Europe/Warsaw:20251121T110000
DTEND;TZID=Europe/Warsaw:20251121T170000
DTSTAMP:20260426T035056
CREATED:20251007T130659Z
LAST-MODIFIED:20251007T130659Z
UID:3858-1763722800-1763744400@pomorskie.znp.edu.pl
SUMMARY:Rada Szkolnictwa Wyższego ZNP - 120-lat ZNP
DESCRIPTION:
URL:https://pomorskie.znp.edu.pl/wydarzenie/rada-szkolnictwa-wyzszego-znp-120-lat-znp/
END:VEVENT
BEGIN:VEVENT
DTSTART;TZID=Europe/Warsaw:20251114T130000
DTEND;TZID=Europe/Warsaw:20251114T180000
DTSTAMP:20260426T035056
CREATED:20250917T055924Z
LAST-MODIFIED:20251007T130440Z
UID:3684-1763125200-1763143200@pomorskie.znp.edu.pl
SUMMARY:Obchody 120-lecia ZNP - Oddział w Kwidzynie
DESCRIPTION:
URL:https://pomorskie.znp.edu.pl/wydarzenie/obchody-120-lecia-znp-oddzial-w-kwidzynie/
END:VEVENT
BEGIN:VEVENT
DTSTART;TZID=Europe/Warsaw:20251114T100000
DTEND;TZID=Europe/Warsaw:20251114T190000
DTSTAMP:20260426T035056
CREATED:20250922T074232Z
LAST-MODIFIED:20250922T074232Z
UID:3767-1763114400-1763146800@pomorskie.znp.edu.pl
SUMMARY:Jubileusz 120-lecia powstania ZNP - Oddział ZNP w Krakowie
DESCRIPTION:
URL:https://pomorskie.znp.edu.pl/wydarzenie/jubileusz-120-lecia-powstania-znp-oddzial-znp-w-krakowie/
LOCATION:Aula Główna Akademii Górniczo Hutniczej ( budynek A0) al. Mickiewicza 30 w Krakowie
END:VEVENT
BEGIN:VEVENT
DTSTART;TZID=Europe/Warsaw:20251113T100000
DTEND;TZID=Europe/Warsaw:20251113T130000
DTSTAMP:20260426T035056
CREATED:20251030T134925Z
LAST-MODIFIED:20251030T134925Z
UID:3880-1763028000-1763038800@pomorskie.znp.edu.pl
SUMMARY:Posiedzenie Sekretariatu ZOP ZNP
DESCRIPTION:
URL:https://pomorskie.znp.edu.pl/wydarzenie/posiedzenie-sekretariatu-zop-znp/
LOCATION:Siedziba Zarządu Oddziału ZNP w Gdyni ul. Pomorska 24/8
END:VEVENT
END:VCALENDAR